BEGIN:VCALENDAR
VERSION:2.0
PRODID:-//Mohawk Sports Complex - ECPv6.15.20//NONSGML v1.0//EN
CALSCALE:GREGORIAN
METHOD:PUBLISH
X-ORIGINAL-URL:https://mohawksportscomplex.com
X-WR-CALDESC:Events for Mohawk Sports Complex
REFRESH-INTERVAL;VALUE=DURATION:PT1H
X-Robots-Tag:noindex
X-PUBLISHED-TTL:PT1H
BEGIN:VTIMEZONE
TZID:America/Chicago
BEGIN:DAYLIGHT
TZOFFSETFROM:-0600
TZOFFSETTO:-0500
TZNAME:CDT
DTSTART:20250309T080000
END:DAYLIGHT
BEGIN:STANDARD
TZOFFSETFROM:-0500
TZOFFSETTO:-0600
TZNAME:CST
DTSTART:20251102T070000
END:STANDARD
BEGIN:DAYLIGHT
TZOFFSETFROM:-0600
TZOFFSETTO:-0500
TZNAME:CDT
DTSTART:20260308T080000
END:DAYLIGHT
BEGIN:STANDARD
TZOFFSETFROM:-0500
TZOFFSETTO:-0600
TZNAME:CST
DTSTART:20261101T070000
END:STANDARD
BEGIN:DAYLIGHT
TZOFFSETFROM:-0600
TZOFFSETTO:-0500
TZNAME:CDT
DTSTART:20270314T080000
END:DAYLIGHT
BEGIN:STANDARD
TZOFFSETFROM:-0500
TZOFFSETTO:-0600
TZNAME:CST
DTSTART:20271107T070000
END:STANDARD
END:VTIMEZONE
BEGIN:VEVENT
DTSTART;TZID=America/Chicago:20260711T080000
DTEND;TZID=America/Chicago:20260712T170000
DTSTAMP:20260424T090238
CREATED:20251016T164648Z
LAST-MODIFIED:20251016T164730Z
UID:6461-1783756800-1783875600@mohawksportscomplex.com
SUMMARY:7V7 PASSING TOURNAMENT
DESCRIPTION:Get ready to showcase your skills at the Mohawk Sports Complex 7v7 High School Passing Tournament this July! Designed for high school athletes\, this fast-paced\, 7v7 format tournament guarantees 6 games of competitive action for every team. Helmets are required\, ensuring safety while players push their passing\, catching\, and strategy to the next level. Don’t miss the chance to compete\, sharpen your skills\, and make your mark—spots are limited\, so register your team today! \nLEARN MORE
URL:https://mohawksportscomplex.com/event/7v7-passing-tourament/
LOCATION:Mohawk Sports Complex
ATTACH;FMTTYPE=image/jpeg:https://mohawksportscomplex.com/wp-content/uploads/2025/09/High-School-fLAG-fOOTBALL-3.jpg
END:VEVENT
END:VCALENDAR